BEGIN:VCALENDAR
VERSION:2.0
PRODID:-//eventon.com NONSGML v1.0//EN
BEGIN:VEVENT
UID:69e7741d2011f
DTSTAMP:20260421T125701
DTSTART:20240511
DTEND:20240511
TZID:Pacific/Midway
LOCATION:
SUMMARY:Term2 1st Friendship Training
DESCRIPTION: \nhttps://dhtkd.co.nz/events/term2-1st-friendship-training/
URL:https://dhtkd.co.nz/events/term2-1st-friendship-training/
END:VEVENT
END:VCALENDAR