BEGIN:VCALENDAR
VERSION:2.0
PRODID:-//eventon.com NONSGML v1.0//EN
BEGIN:VEVENT
UID:69ea3f2609fcc
DTSTAMP:20260423T154750
DTSTART:20240601
DTEND:20240601
TZID:Pacific/Auckland
LOCATION:
SUMMARY:2024 WTNZ Tournament
DESCRIPTION: \nhttps://dhtkd.co.nz/events/2024-wtnz-tournament/
URL:https://dhtkd.co.nz/events/2024-wtnz-tournament/
END:VEVENT
END:VCALENDAR